BEGIN:VCALENDAR
VERSION:2.0
PRODID:-//My Community Diary//iCal Event//EN
CALSCALE:GREGORIAN
METHOD:PUBLISH
BEGIN:VEVENT
UID:8c83f9e3-3c81-4189-b09e-716d3ce473df
DTSTAMP:20260422T002815Z
DTSTART;VALUE=DATE:20260719
DTEND;VALUE=DATE:20260720
SUMMARY:Elephant Trail Race
DESCRIPTION:Coastal Track and Trail Runners would like to invite you to the Elephant Trail Race. The 25-27 kilometres Mt Cairncross course\, with approximately 1455 metre elevation per lap. The race offers participants a choice of distances catering for both the novice and Ultra Distance Runner. Distances of 217 kilometre\, 160 kilometre\, 100 kilometre Solo\, 100 kilometre 3 Day Staged\, 75 kilometre 3 Day Staged\, 50 kilometre\, 25 kilometre\, 13 kilometre\,  5 kilometre and a free Kids Race 2.5 kilometre.\n\nElephant Trail Race attracts ITRA points for six of its eight races. 217 kilometre - Six Points\,  160 kilometre - Six Points\, 100 kilometre Solo - Five Points\, 50 kilometre - Three Points\, 25 kilometre - One Point.\n\nThe race is only a short distance from Port Macquarie\, Wauchope and Telegraph Point in the beautiful Hastings Area. All racing will take place in Cairncross State Forest. The Elephant Trail Race is in it's ninth year in 2026.\n\nYou will travel through the State Forest and NSW Crown Lands and land of the traditional owners\, the Birpai People.
LOCATION:\, Pembrooke\, NSW 2446\, NSW\, 2446
RRULE:FREQ=DAILY;INTERVAL=1;UNTIL=20260721T000000Z
END:VEVENT
END:VCALENDAR
