BEGIN:VCALENDAR
VERSION:2.0
PRODID:-//My Community Diary//iCal Event//EN
CALSCALE:GREGORIAN
METHOD:PUBLISH
BEGIN:VEVENT
UID:1063e452-4be4-4944-a460-4e6486f20377
DTSTAMP:20260422T003030Z
DTSTART;VALUE=DATE:20260906
DTEND;VALUE=DATE:20260907
SUMMARY:CAF 25 Canberra Art Fair
DESCRIPTION:CAF 25\, Canberra Art Fair\, is a three-day event celebrating the arts community in Canberra.\n\nThe venue is the Fitzroy Pavilion at EPIC\, in Lyneham. Some sixty professional and amateur\, local and regional artists are exhibiting their works. Five artists will be painting on site and there will be art lessons conducted over the weekend.
LOCATION:\, Northbourne Ave\, Lyneham\, ACT 2602\, ACT\, 2602
RRULE:FREQ=DAILY;INTERVAL=1;UNTIL=20260908T000000Z
END:VEVENT
END:VCALENDAR
