BEGIN:VCALENDAR
VERSION:2.0
PRODID:-//My Community Diary//iCal Event//EN
CALSCALE:GREGORIAN
METHOD:PUBLISH
BEGIN:VEVENT
UID:0ffee970-4fca-4c8f-90fa-15469ff7713c
DTSTAMP:20260422T051145Z
DTSTART;VALUE=DATE:20260904
DTEND;VALUE=DATE:20260905
SUMMARY:CAF 25 Canberra Art Fair
DESCRIPTION:CAF 25\, Canberra Art Fair\, is a three-day event celebrating the arts community in Canberra.\n\nThe venue is the Fitzroy Pavilion at EPIC\, in Lyneham. Some sixty professional and amateur\, local and regional artists are exhibiting their works. Five artists will be painting on site and there will be art lessons conducted over the weekend.
LOCATION:\, Northbourne Ave\, Lyneham\, ACT 2602\, ACT\, 2602
RRULE:FREQ=DAILY;INTERVAL=1;UNTIL=20260906T000000Z
END:VEVENT
END:VCALENDAR
