BEGIN:VCALENDAR
VERSION:2.0
PRODID:-//My Community Diary//iCal Event//EN
CALSCALE:GREGORIAN
METHOD:PUBLISH
BEGIN:VEVENT
UID:e3edbbc7-e9b0-4633-a1a9-c2ebc4bd01a0
DTSTAMP:20260422T073453Z
DTSTART;VALUE=DATE:20260507
DTEND;VALUE=DATE:20260508
SUMMARY:Beethoven's Ghost | Musica Viva Australia | Canberra
DESCRIPTION:What makes a great piano trio? Is it celebrity? Is it longevity? Or is it serendipity? Three magnificent musicians\, brought together at the right time and the right place?\n\nAura Go\, Australian pianist\, storyteller and FutureMaker\, has worked with Finnish/Australian cellist Timo-Veikko (Tipi) Valve for many years\, performing nationally and internationally as a duo. She's also toured extensively with virtuoso Australian violinist Kristian Winther.\n\nNow Musica Viva Australia presents Aura Go\, Timo-Veikko Valve and Kristian Winther in the piano trio for which everyone has been waiting.\n\nBeethoven's Piano Trio in D\, the 'Ghost'\, and Ravel's stormy Piano Trio form the dramatic core of Aura\, Kristian and Tipi's first national tour together.\n\nAlongside these two giants of the repertoire\, they bring a glowing miniature from Lili Boulanger\, written in the shadow of the First World War\, and a world premiere from Australian composer Melody Eötvös\, commissioned by Musica Viva Australia and written for this exciting new ensemble of local heroes.\n\nEntry Cost\nAll tickets $40 
LOCATION:\, William Herbert Place Building 100\, Canberra\, ACT 2601\, ACT\, 2601
END:VEVENT
END:VCALENDAR
