BEGIN:VCALENDAR
VERSION:2.0
PRODID:-//My Community Diary//iCal Event//EN
CALSCALE:GREGORIAN
METHOD:PUBLISH
BEGIN:VEVENT
UID:8eb5c2a7-8502-45ea-b74c-1603fba088a6
DTSTAMP:20260422T013711Z
DTSTART:20260511T080000Z
DTEND:20260511T170000Z
SUMMARY:Occupational Therapy
DESCRIPTION:This event is provided by The Whole Child at MIDIN CLINIC. Please confirm precise times with the service provider. (https://www.thewholechild.com.au)\nThe Whole Child has experience in the following: Have been involved with the local Aboriginal communities for past 20 years
LOCATION:\, 31-33 Robert Street\, Atherton\, QLD\, 4883\, QLD\, 4883
END:VEVENT
END:VCALENDAR
