BEGIN:VCALENDAR
VERSION:2.0
PRODID:-//My Community Diary//iCal Event//EN
CALSCALE:GREGORIAN
METHOD:PUBLISH
BEGIN:VEVENT
UID:79606320-009c-466d-b68a-ed4df9ac8735
DTSTAMP:20260424T164558Z
DTSTART;TZID=W. Australia Standard Time:20191009T113000
DTEND;TZID=W. Australia Standard Time:20191009T130000
SUMMARY:Pickleball
DESCRIPTION:11.30am - 1.30pm - Friday\n\nPickleball is a paddleball sport that combines elements of tennis\, badminton\, and table tennis. Two or four players use solid paddles made of wood or composite materials to hit a perforated polymer ball\, similar to a Wiffle Ball\, over a low net. The sport shares features of other racquet sports\, the dimensions and layout of a badminton court\, and a net and rules somewhat similar to tennis\, with several modifications.\n\nThis group is run privately indoors&nbsp\;at the Samson Recreation Centre but encourages new members.&nbsp\; Call 0403 743 147 for more information.\n
LOCATION:Samson Recreation Centre \, 44 McCombe Avenue\, Samson WA 6163\, WA\, 6163
RRULE:FREQ=WEEKLY;INTERVAL=1;BYDAY=FR
END:VEVENT
END:VCALENDAR
