BEGIN:VCALENDAR
VERSION:2.0
PRODID:-//My Community Diary//iCal Event//EN
CALSCALE:GREGORIAN
METHOD:PUBLISH
BEGIN:VEVENT
UID:48380951-c2fc-4169-bb96-b840c0d684ff
DTSTAMP:20260421T224140Z
DTSTART;VALUE=DATE:20260902
DTEND;VALUE=DATE:20260903
SUMMARY:World Squash Masters Championships
DESCRIPTION:They're thrilled to welcome players\, supporters\, and squash fans from around the globe to the World Squash Masters Championships in Perth\, Australia.\n \nGet ready for an unforgettable celebration of squash\, community\, and competition as they bring together master athletes of all ages and nations in a showcase of passion\, performance\, and international spirit.
LOCATION:\, 200 Karrinyup Rd\, Karrinyup\, WA 6018\, WA\, 6018
RRULE:FREQ=DAILY;INTERVAL=1;UNTIL=20260904T000000Z
END:VEVENT
END:VCALENDAR
