BEGIN:VCALENDAR
VERSION:2.0
PRODID:-//My Community Diary//iCal Event//EN
CALSCALE:GREGORIAN
METHOD:PUBLISH
BEGIN:VEVENT
UID:f4e3dddc-9fe4-4be7-b24c-e963bfb2d2a0
DTSTAMP:20260421T224301Z
DTSTART;VALUE=DATE:20260831
DTEND;VALUE=DATE:20260901
SUMMARY:World Squash Masters Championships
DESCRIPTION:They're thrilled to welcome players\, supporters\, and squash fans from around the globe to the World Squash Masters Championships in Perth\, Australia.\n \nGet ready for an unforgettable celebration of squash\, community\, and competition as they bring together master athletes of all ages and nations in a showcase of passion\, performance\, and international spirit.
LOCATION:\, 200 Karrinyup Rd\, Karrinyup\, WA 6018\, WA\, 6018
RRULE:FREQ=DAILY;INTERVAL=1;UNTIL=20260902T000000Z
END:VEVENT
END:VCALENDAR
