BEGIN:VCALENDAR
VERSION:2.0
PRODID:-//My Community Diary//iCal Event//EN
CALSCALE:GREGORIAN
METHOD:PUBLISH
BEGIN:VEVENT
UID:5fde6dc1-bbb9-4ce5-9e85-345dbb93090d
DTSTAMP:20260421T222353Z
DTSTART;VALUE=DATE:20260819
DTEND;VALUE=DATE:20260820
SUMMARY:Darwin Festival
DESCRIPTION:Get ready to celebrate at Darwin Festival\, 6 - 23 August 2026!\n\nDarwin Festival is Australia's hottest winter arts festival\, set in the heart of the Northern Territory on Larrakia land. This unmissable celebration brings together the spirit of the Top End with a vibrant program of arts\, culture\, food\, stories\, dancing\, and laughter to fill your heart\, mind\, and soul.\n\nOver 18 unforgettable days\, experience theatre\, music\, comedy\, circus\, cabaret\, dance\, visual arts\, unique food and beverage experiences\, and awe-inspiring storytelling. Loved by locals and adored by visitors\, this annual festival is the centrepiece of Darwin's dry season\, making August the best time of year to visit.\n\nThrough dynamic programming\, innovative partnerships\, and a commitment to artistic expression\, artists from the Northern Territory\, Australia\, and around the world come together to share\, connect\, and inspire through the power of the arts. Darwin Festival continues to entertain and unite audiences\, cementing its place as a leading cultural event in the Northern Territory and beyond.\n\nCome for the festival\, and stay to explore Darwin\, a city of tropical warmth\, welcoming locals\, and access to the breathtaking landscapes of the Northern Territory. From the majestic Kakadu National Park to the waterfalls of Litchfield\, the NT's awe-inspiring nature and cultural sites make it an unforgettable destination.\n\nEntry Cost\nAll tickets $0  - Free and paid events. Average ticket price $44.
LOCATION:\, Festival Park Smith Street\, Darwin City\, NT 0800\, NT\, 0800
RRULE:FREQ=DAILY;INTERVAL=1;UNTIL=20260821T000000Z
END:VEVENT
END:VCALENDAR
