BEGIN:VCALENDAR
VERSION:2.0
PRODID:-//My Community Diary//iCal Event//EN
CALSCALE:GREGORIAN
METHOD:PUBLISH
BEGIN:VEVENT
UID:ef107153-47b3-43d9-b693-a48a1b8595b6
DTSTAMP:20260421T224143Z
DTSTART;VALUE=DATE:20260814
DTEND;VALUE=DATE:20260815
SUMMARY:Wee Waa Show
DESCRIPTION:Wee Waa's Annual Show is renowned for its country hospitality and unique Agricultural based competitions. See farm hands and land managers battle it out for the reigning title of Australian Siphoning Champion. \n\nBrowse the pavilions to see the latest creations in cooking all the way to patchworks and quilting. \n\nWatch the strength of anyone who dares to win the Cross Cut Saw comp or battle it out on their trusty ride-ons in the Lawn Mower race. \n\nThere's live music across the two days\, fireworks\, a lolly drop and so much more! \n\nThis is a country show that you don't want to miss out on.
LOCATION:\, 69 Maitland Street\, Wee Waa\, NSW 2388\, NSW\, 2388
RRULE:FREQ=DAILY;INTERVAL=1;UNTIL=20260816T000000Z
END:VEVENT
END:VCALENDAR
