BEGIN:VCALENDAR
VERSION:2.0
PRODID:-//My Community Diary//iCal Event//EN
CALSCALE:GREGORIAN
METHOD:PUBLISH
BEGIN:VEVENT
UID:8e8732d5-16f1-436c-989d-cb5f8c938bf9
DTSTAMP:20260421T224251Z
DTSTART;VALUE=DATE:20260510
DTEND;VALUE=DATE:20260511
SUMMARY:Wee Waa Cotton Capital Country Music Muster
DESCRIPTION:Get ready to dance the night away at one of Wee Waa's biggest events!\n\nWee Waa Cotton Muster is a great weekend of country music - Bush Ballads\, Classic Country\, Rockin' Country and poetry\,  with some fantastic Australian artists. \n\nFood and Bar facilities\, onsite caravan and RV camping (costs apply).\n\nOne ticked permits entry all weekend. Support the community and have fun doing it.\n\nEntry Cost\nAdult $30 \nChild $10  - Children aged 12- 18 Years\nUnder 12 FREE
LOCATION:\, Maitland Street\, Wee Waa\, NSW 2388\, NSW\, 2388
RRULE:FREQ=DAILY;INTERVAL=1;UNTIL=20260512T000000Z
END:VEVENT
END:VCALENDAR
