BEGIN:VCALENDAR
VERSION:2.0
PRODID:-//My Community Diary//iCal Event//EN
CALSCALE:GREGORIAN
METHOD:PUBLISH
BEGIN:VEVENT
UID:ccb9e853-e2c4-4fe7-876f-ac29779d0c8c
DTSTAMP:20260421T222353Z
DTSTART;VALUE=DATE:20270221
DTEND;VALUE=DATE:20270222
SUMMARY:Uki Buttery Bazaar Market
DESCRIPTION:Uki Buttery Bazaar runs every third Sunday of the month. Come along and enjoy the wonderful village atmosphere that is Uki. Just a country drive away - 40 minutes from the Gold Coast\, less than an hour from Byron Bay. Half the fun is getting there - leave the populace behind\, breathe fresh air\, and take in the spectacular mountain scenery. \n\nThe village Bazaar keeps buzzing all morning. Stay for a scrumptious lunch from one of the 'foodies' or just mellow out under the shade trees\, riverside with a quality beverage from 'coffee oasis'. \n\nIf you're lucky\, you can listen to the hillbilly sounds of the local but famous 'Perch Creek Jug Band'. Cruise the trash and treasure bargains\, take home a plant or two\, and meet the friendly locals. It's a great morning out\, but better still\, come for the weekend and enjoy Ukitopia - a weekend experience!
LOCATION:\, 1454 Kyogle Road\, Uki\, NSW 2484\, NSW\, 2484
RRULE:FREQ=DAILY;INTERVAL=1;UNTIL=20270223T000000Z
END:VEVENT
END:VCALENDAR
