BEGIN:VCALENDAR
VERSION:2.0
PRODID:-//My Community Diary//iCal Event//EN
CALSCALE:GREGORIAN
METHOD:PUBLISH
BEGIN:VEVENT
UID:eb81892f-8164-4dcd-ba05-7fe838d2af13
DTSTAMP:20260424T164559Z
DTSTART;TZID=W. Australia Standard Time:20191002T100000
DTEND;TZID=W. Australia Standard Time:20191002T110000
SUMMARY:Social Group:  Tech Help Wednesday 
DESCRIPTION:Pop into the Wanjoo Lounge located at the back of Fremantle Library on Wednesday mornings to find a volunteer proficient in assisting over 55s with technology and the digital world. This service is subject to volunteer availability.\n\nWanjoo Lounge\, Fremantle Library\, 70 Parry Street\, Fremantle Oval\n\nWednesdays 10-11am\n\nFree\n
LOCATION:City Of Fremantle Administration\, Walyalup Civic Centre\, 151 High Street Fremantle WA 6160\, WA\, 6160
RRULE:FREQ=WEEKLY;INTERVAL=1;BYDAY=WE
END:VEVENT
END:VCALENDAR
