BEGIN:VCALENDAR
VERSION:2.0
PRODID:-//My Community Diary//iCal Event//EN
CALSCALE:GREGORIAN
METHOD:PUBLISH
BEGIN:VEVENT
UID:85012bfc-6979-444d-ae36-161be845fa6b
DTSTAMP:20260422T002001Z
DTSTART;VALUE=DATE:20260509
DTEND;VALUE=DATE:20260510
SUMMARY:Saturday Skywatch
DESCRIPTION:The Rock Regional Observatory hosts a free Saturday Skywatch event every Saturday\, open to all ages. \n\nParticipants can explore the night sky through telescopes\, learning about stars\, planets\, and constellations.
LOCATION:\, 3778 Lockhart-the Rock Road\, The Rock\, NSW 2655\, NSW\, 2655
RRULE:FREQ=DAILY;INTERVAL=1;UNTIL=20260511T000000Z
END:VEVENT
END:VCALENDAR
