BEGIN:VCALENDAR
VERSION:2.0
PRODID:-//My Community Diary//iCal Event//EN
CALSCALE:GREGORIAN
METHOD:PUBLISH
BEGIN:VEVENT
UID:f9be208b-1758-4895-aa90-149560515cfe
DTSTAMP:20260422T001614Z
DTSTART;VALUE=DATE:20260425
DTEND;VALUE=DATE:20260426
SUMMARY:Saturday Skywatch
DESCRIPTION:The Rock Regional Observatory hosts a free Saturday Skywatch event every Saturday\, open to all ages. \n\nParticipants can explore the night sky through telescopes\, learning about stars\, planets\, and constellations.
LOCATION:\, 3778 Lockhart-the Rock Road\, The Rock\, NSW 2655\, NSW\, 2655
RRULE:FREQ=DAILY;INTERVAL=1;UNTIL=20260427T000000Z
END:VEVENT
END:VCALENDAR
