BEGIN:VCALENDAR
VERSION:2.0
PRODID:-//My Community Diary//iCal Event//EN
CALSCALE:GREGORIAN
METHOD:PUBLISH
BEGIN:VEVENT
UID:ccc1e07c-9f06-45ca-bbf7-f5d328127b1b
DTSTAMP:20260422T020213Z
DTSTART;VALUE=DATE:20260517
DTEND;VALUE=DATE:20260518
SUMMARY:Rotary Club of Wagga Wagga - Book Fair
DESCRIPTION:The Rotary Club of Wagga Wagga Book Fair will be held at the Kyeamba Smith Hall\, Wagga Showground. \n\nThis massive book sale\, one of the biggest in regional areas\, will offer thousands of good quality second-hand books\, both fiction and non-fiction\, category sorted\, at realistic prices.  \n\nIt's an event for all the family\, with a huge stock of material for children and youth. Barbecue food available all weekend.\n\nEntry Cost\nAll tickets $2  - Children are free.
LOCATION:\, Bourke Street\, Wagga Wagga\, NSW 2650\, NSW\, 2650
RRULE:FREQ=DAILY;INTERVAL=1;UNTIL=20260519T000000Z
END:VEVENT
END:VCALENDAR
