BEGIN:VCALENDAR
VERSION:2.0
PRODID:-//My Community Diary//iCal Event//EN
CALSCALE:GREGORIAN
METHOD:PUBLISH
BEGIN:VEVENT
UID:dacfa902-3a5e-4510-9ef3-43a1dd155436
DTSTAMP:20260421T222219Z
DTSTART;VALUE=DATE:20260425
DTEND;VALUE=DATE:20260426
SUMMARY:Fibre Arts Studio Workshops
DESCRIPTION:A new concept for Fibre Arts\, bringing to you a smaller boutique event with a country feel. Learn with one of the best tutors' in the Fibre/Textile Art realm.\n\nAfter 35 years in the business\, your tutor knows just how to make you feel comfortable in this new concept while conducting these studio workshops.\n\nThe venue is the beautiful Callignee Hall\, a pleasant drive in the Gippsland area of Victoria\, in addition to others around the country. \nThey are all set up to hold such workshops as previously held by Fibre Arts. \n\nThese are non-live in events\, with recommendations to the best accommodation that is close by.\n\nEntry Cost\nAll tickets $1500  - Includes 5 day continuos workshop\, learning with an international tutor\, chef prepared lunches\, morning and afternoon teas
LOCATION:\, 435 Old Callignee Rd\, Callignee VIC 3844\, CALLIGNEE\, VIC 3844\, VIC\, 3844
RRULE:FREQ=DAILY;INTERVAL=1;UNTIL=20260427T000000Z
END:VEVENT
END:VCALENDAR
