BEGIN:VCALENDAR
VERSION:2.0
PRODID:-//My Community Diary//iCal Event//EN
CALSCALE:GREGORIAN
METHOD:PUBLISH
BEGIN:VEVENT
UID:be2cb888-8247-41f4-ac76-644f54e2b958
DTSTAMP:20260422T021156Z
DTSTART;VALUE=DATE:20260619
DTEND;VALUE=DATE:20260620
SUMMARY:Fireside Friday Dinner and Museum Wine
DESCRIPTION:Fireside Fridays at Heritage Estate offer an intimate evening of indulgence\, where you can sink into deep leather Chesterfields beside the glowing fire and enjoy tiers of hot tapas paired with premium and museum wines in the company of their vignerons. The menu features a curated selection of gourmet bites\, including Coffin Bay oysters (Mornay or Kilpatrick)\, flambé baby octopus\, crocodile green curry\, quail grilled with goddess dressing\, venison bitesize pies with Riesling tomato relish\, a Mediterranean tart with pinenuts\, asparagus\, goat cheese and peppers\, Angus beef tataki\, and duck breast with cognac sauce. Designed to delight the palate and transport the senses\, this elegant experience is the perfect way to create unforgettable Friday night memories in the heart Granite Belt's highest altitude five Star winery. \n\nAGFG ReadersChoice Awarded chef (five years  to 2025) with Romantic music\, candlelight\, roaring fires\, soaring ceilings\, smell the beautiful roses\, soak up the heady oak and indulge in this exclusive\, luxury\, private experience.\n\nEntry Cost\nAll tickets $150 
LOCATION:\, 747 Granite Belt Drive\, Cottonvale\, QLD 4375\, QLD\, 4375
RRULE:FREQ=DAILY;INTERVAL=1;UNTIL=20260621T000000Z
END:VEVENT
END:VCALENDAR
