BEGIN:VCALENDAR
VERSION:2.0
PRODID:-//My Community Diary//iCal Event//EN
CALSCALE:GREGORIAN
METHOD:PUBLISH
BEGIN:VEVENT
UID:96562e32-0c9f-4519-b65f-ddff2cc4d8d6
DTSTAMP:20260422T021821Z
DTSTART;VALUE=DATE:20260731
DTEND;VALUE=DATE:20260801
SUMMARY:Garma Festival
DESCRIPTION:Join Garma Festival in the remote north of Australia as the Yolngu clans of Arnhem Land come together for a four-day celebration of art\, music\, dance\, ceremony and song. Hosted by the Yothu Yindi Foundation\, Garma is like nothing you've experienced before\, a place where the freshwater and saltwater meet\, an opportunity for cross-cultural exchange. \n\nDaily workshops give Garma guests the chance to immerse themselves in different aspects of Yolngu culture\, while the Key Forum policy conference hosts discussions and debates on major issues. The stunning outdoor Gapan art gallery - lit up under the stars - is a sight to behold\, while the daily bunggul (ceremonial dance) at sunset is not to be missed.
LOCATION:\, Nhulunbuy\, NT 0880\, NT\, 0880
RRULE:FREQ=DAILY;INTERVAL=1;UNTIL=20260802T000000Z
END:VEVENT
END:VCALENDAR
