BEGIN:VCALENDAR
VERSION:2.0
PRODID:-//My Community Diary//iCal Event//EN
CALSCALE:GREGORIAN
METHOD:PUBLISH
BEGIN:VEVENT
UID:6bafb6d8-ff1b-4162-bea6-727ba8ed195a
DTSTAMP:20260422T021753Z
DTSTART;VALUE=DATE:20260726
DTEND;VALUE=DATE:20260727
SUMMARY:Tocal's Peek into the Past
DESCRIPTION:Peek into the Past is when Tocal Homestead comes alive with the sights\, sounds and smells of yesteryear. It is the perfect old worldly day out for the whole family to become immersed in the nostalgia.\n\nMusic whispers across the site intermingling with the sounds of vintage machinery and the clanking of the blacksmiths hammer. The smell of freshly baked scones from the wood oven accompanied with a cup of tea is the perfect warmth you need on this winter’s day out. Make sure you enjoy a piece of damper from the camp fire\, topped with ‘cocky’s joy’. Try your hand at traditional bush games and then watch the local straw broom maker at work. Keep an eye out for the ‘redcoats’ of the soldiers of the 73rd Regiment of Foot\; they will fire their muskets and march through the site. And they don’t mind if you wander around their encampment and chat to them about what they do.\n\nDrop in to hear one of the history talks to learn how it all came about.\n\nThere are heritage clothing parades\, machinery demonstrations\, farm animals including calf feeding\, tractors at work\, and the original Rolls Royce of the Homestead on display. There will also be sheep shearing and working vintage machinery. \n\nSo much for all the family to enjoy.
LOCATION:\, 957 Tocal Road\, Paterson\, NSW 2421\, NSW\, 2421
END:VEVENT
END:VCALENDAR
