BEGIN:VCALENDAR
VERSION:2.0
PRODID:-//My Community Diary//iCal Event//EN
CALSCALE:GREGORIAN
METHOD:PUBLISH
BEGIN:VEVENT
UID:0672003f-a8bb-4b7d-8ce9-d39a5c20266b
DTSTAMP:20260422T050113Z
DTSTART;VALUE=DATE:20260809
DTEND;VALUE=DATE:20260810
SUMMARY:Run Dungog
DESCRIPTION:Small town\, big trail running festival! Indulge your senses with a breath of fresh air. With 5\, 10 and 20 kilometre events on offer\, there is a distance that you will love. \n\nFrom 8am you will be at the Dungog Common for the Run Dungog Trail Running Festival. With a local coffee cart\, local brunch produce\, kids bushcraft-rewilding-trail running activities (fully supervised while you run!) music\, dog friendly and a great atmosphere.  Kids 12 and under run free. This is a great morning day out\, and with it wrapping up by midday\, it allows plenty of time to depart Dungog for home.\n\nDungog Running Festival is organised by a volunteer committee\, with all proceeds will be donated to the much-loved and much-needed Dungog Shire Community Centre.\n\nQuestions:\nRain? Yes\, you still run.\n\nDogs? Yes\, bring\, no need to register\, remember they have a best dressed prize!\n\nBuying tickets? Tickets are discounted before the day of the race.  Early Early Bird\, Early Bird\, Third Release and Race Day pricing.\n\nRegistration brackets? Registration is 10-year groups\, e.g. 20 – 29\, 30 - 39\, etc.\n\nWalkers? Come! This day is for everyone! This event started as a dash and dawdle… they're heading back to their roots. Come take the opportunity to raise money for the community centre\, while walking with and in their community.
LOCATION:\, Common Road\, Dungog\, NSW 2420\, NSW\, 2420
END:VEVENT
END:VCALENDAR
