BEGIN:VCALENDAR
VERSION:2.0
PRODID:-//My Community Diary//iCal Event//EN
CALSCALE:GREGORIAN
METHOD:PUBLISH
BEGIN:VEVENT
UID:34a61724-36c3-404e-89e1-b6c8891ed4f7
DTSTAMP:20260422T052932Z
DTSTART;VALUE=DATE:20261018
DTEND;VALUE=DATE:20261019
SUMMARY:Marys Mayhem
DESCRIPTION:Mary's Mayhem offers a two-day overnight social bike ride along some of Australia's finest gravel roads\, showcasing breathtaking scenic views of the Rylstone/Mudgee region. Participants will enjoy complimentary access to event photographs captured by ReadyAimMedia.\n\nThe event pays homage to the legacy of Mary Ann Bugg\, a proud Worimi woman and possibly Australia's first female bushranger in the 1800s. Married to Captain Thunderbolt\, she allegedly orchestrated his escape from Cockatoo Island prison by swimming across shark-infested waters of Sydney Harbour with a file clenched between her teeth. Known for her unconventional acts\, including wearing men's attire\, she operated in the Central North West NSW region.\n\nEvent Support will include on-course feed zones and mechanical assistance. Fully insured and with approval from local authorities\, participants will also receive a 'goodies bag' featuring samples from sponsors and a limited edition commemorative patch.\n\nThree course options are available:\n\nShort Course: Approximately 30 kilometres each day (ideal for families and e-bikes)\nMedium Course: Approximately 60 kilometres each day\nLong Course: Approximately 100 kilometres each day
LOCATION:\, 713 Black Springs Road\, Budgee Budgee\, NSW 2850\, NSW\, 2850
RRULE:FREQ=DAILY;INTERVAL=1;UNTIL=20261020T000000Z
END:VEVENT
END:VCALENDAR
