BEGIN:VCALENDAR
VERSION:2.0
PRODID:-//My Community Diary//iCal Event//EN
CALSCALE:GREGORIAN
METHOD:PUBLISH
BEGIN:VEVENT
UID:bdf8be44-00bb-4c28-be93-7031787a50fe
DTSTAMP:20260422T105752Z
DTSTART;VALUE=DATE:20261004
DTEND;VALUE=DATE:20261005
SUMMARY:Live Music Sunday Session at Seven Mile Brewery
DESCRIPTION:Grab a coldie\, pull up a seat and kick back as one of their local musicians provide tunes for your Sunday. \n\nThe roster of artists changes frequently\, with many living in the local area and some occasionally from out of town.\n\nSoak in the sounds of the Northern Rivers with family and friends in a fun\, laid back and welcoming atmosphere. Enjoy a variety of comfort food from the food trucks on site including all your favourites such as burgers\, nachos\, wraps\, fries\, and American style barbeque meats.\n\nMusic from 3pm every first and third Sunday of the month.
LOCATION:\, 188-202 Southern Cross Drive\, Ballina\, NSW 2478\, NSW\, 2478
RRULE:FREQ=DAILY;INTERVAL=1;UNTIL=20261006T000000Z
END:VEVENT
END:VCALENDAR
