BEGIN:VCALENDAR
VERSION:2.0
PRODID:-//My Community Diary//iCal Event//EN
CALSCALE:GREGORIAN
METHOD:PUBLISH
BEGIN:VEVENT
UID:2f9ed428-215b-438e-be66-7979c9644188
DTSTAMP:20260422T033853Z
DTSTART;VALUE=DATE:20260517
DTEND;VALUE=DATE:20260518
SUMMARY:Lismore Gemfest
DESCRIPTION:Started in 1990 by the Lismore Gem and Lapidary Club Inc.\, and has since evolved into one of Australia's largest Annual Gem and Mineral shows with over 140 Tailgaters and Dealers. \n\nLismore Gemfest will be held over two massive days\, selling and displaying Minerals\, Gems\, Fossils\, Jewellery and Equipment from all over the world\n\nThere will be a range of fun and engaging kids activities as well as over $1400 in lucky gate prizes.\n\nBe sure to make it down to the Lismore Showground for this sparkly event! More details to come!\n\nEntry Cost\nAdult $5 \nChild $1 
LOCATION:\, 116 Alexandra Parade\, North Lismore\, NSW 2480\, NSW\, 2480
RRULE:FREQ=DAILY;INTERVAL=1;UNTIL=20260519T000000Z
END:VEVENT
END:VCALENDAR
