BEGIN:VCALENDAR
VERSION:2.0
PRODID:-//My Community Diary//iCal Event//EN
CALSCALE:GREGORIAN
METHOD:PUBLISH
BEGIN:VEVENT
UID:cb3529fd-f234-4542-b604-0f18694173c6
DTSTAMP:20260422T002848Z
DTSTART;VALUE=DATE:20260711
DTEND;VALUE=DATE:20260712
SUMMARY:Hats Off to Country Music Festival
DESCRIPTION:Hats Off to Country Music Festival is a cool mid-year festival in the region of Tamworth. Venues in the region welcome you to four days of country music.\n\nThe Hats Off festival complements the annual Tamworth Country Music Festival offering cooler temperatures\, a hub for singer-songwriters\, and a haven for good times. In 2017\, the addition of the Cowboy Crawl was introduced as a fun and safe way to see up to five artists across multiple venues in one evening. \n\nHats Off features mostly free events with a handful of ticketed shows. Numerous Golden Guitar winners participate as well as individual singer-songwriters and members of the Tamworth Songwriters' Association\, a song writing retreat\, the CMAA Junior Academy\, the Australian Bush Balladeers' Awards and dozens of events and activities throughout Country Music Capital and the surrounding region.
LOCATION:\, Peel Street\, Tamworth\, NSW 2340\, NSW\, 2340
RRULE:FREQ=DAILY;INTERVAL=1;UNTIL=20260713T000000Z
END:VEVENT
END:VCALENDAR
