BEGIN:VCALENDAR
VERSION:2.0
PRODID:-//My Community Diary//iCal Event//EN
CALSCALE:GREGORIAN
METHOD:PUBLISH
BEGIN:VEVENT
UID:3453d1c9-d115-4985-95ad-57a8cf9995e7
DTSTAMP:20260422T002817Z
DTSTART;VALUE=DATE:20260823
DTEND;VALUE=DATE:20260824
SUMMARY:Condobolin All Breeds Championship Dog Show
DESCRIPTION:The annual Condobolin Dog Show is run over 10 days each year and attracts competitors and spectators from near and far. There will be plenty of dogs on show\, with this exciting event being an All Breeds Championship.\n\nDrop in to the arena near the Riverview Caravan Park on Diggers Avenue to watch the canine action\, meet the handlers\, and enjoy the atmosphere at any time during the show.
LOCATION:\, Diggers Avenue\, Condobolin\, NSW 2877\, NSW\, 2877
RRULE:FREQ=DAILY;INTERVAL=1;UNTIL=20260825T000000Z
END:VEVENT
END:VCALENDAR
