BEGIN:VCALENDAR
VERSION:2.0
PRODID:-//My Community Diary//iCal Event//EN
CALSCALE:GREGORIAN
METHOD:PUBLISH
BEGIN:VEVENT
UID:7f3b20a7-1b16-49ae-b656-1cd3fa06e812
DTSTAMP:20260424T125841Z
DTSTART;VALUE=DATE:20260804
DTEND;VALUE=DATE:20260805
SUMMARY:Gurindji Freedom Banners Exhibition
DESCRIPTION:Mumkurla-nginyi-ma parrngalinyparla – from the darkness into the light.\n \nThe Gurindji freedom banners are a collection of 10 hand-painted banners created in 2000 by the Gurindji to share the community's version of the historic 1966 Wave Hill walk-off. The walk-off\, or Gurindji strike\, led by Gurindji man Vincent Lingiari was an important event in Australia's land rights movement. Many of the 35 Gurindji people involved in the banner-making project were participants in the walk-off.\n \nAt some stage\, banner eight\, Ngumpittu nguwula junypa wanyjarnana (Two young men dancing)\, went missing. In July 2025\, a banner-making workshop was held in Daguragu and Kalkarindji to reconstruct the missing banner and restore the collection.
LOCATION:\, 18 King George Terrace\, Parkes\, ACT 2600\, ACT\, 2600
RRULE:FREQ=DAILY;INTERVAL=1;UNTIL=20260806T000000Z
END:VEVENT
END:VCALENDAR
