BEGIN:VCALENDAR
VERSION:2.0
PRODID:-//My Community Diary//iCal Event//EN
CALSCALE:GREGORIAN
METHOD:PUBLISH
BEGIN:VEVENT
UID:64cf485c-7935-4ad4-9b87-bc1dc6713efc
DTSTAMP:20260422T015615Z
DTSTART;VALUE=DATE:20260806
DTEND;VALUE=DATE:20260807
SUMMARY:Canberra CareersXpo
DESCRIPTION:The 2025 Canberra CareersXpo will be a major annual event with over 110 exhibitors from interstate and the A.C.T and it will incorporate six programs in one: CareersXpo\, real skills for real careers\, Indigenous Exhibition\,  School to Work\, Innovation and Technology and STEM Cell.\n\nInclusive employment is an ongoing commitment to creating a workplace where every individual has the opportunity to thrive\, contribute\, and feel valued.  In order to foster meaningful engagement with their 2025 cohort of participants and attendees around diversity and equal opportunity\, the Careers Xpo Team will focus on inclusion accessibility on Thursday15th August from 12pm to 2.30pm.\n\nExhibitors come from a broad cross-section of providers including Federal and State Government departments\, employer organisations\, private colleges\, apprenticeship centres and numerous individual businesses.\n\nThe event is open to all students and adults looking for advice and information on current and future employment and career options through apprenticeships\, study and employment.\n\nCome and chat with the exhibitors about career and study pathways that interest you. Entry is Free.
LOCATION:\, Corner of Flemington Rd &\, Northbourne Ave\, Mitchell\, ACT 2911\, ACT\, 2911
RRULE:FREQ=DAILY;INTERVAL=1;UNTIL=20260808T000000Z
END:VEVENT
END:VCALENDAR
