BEGIN:VCALENDAR
VERSION:2.0
PRODID:-//My Community Diary//iCal Event//EN
CALSCALE:GREGORIAN
METHOD:PUBLISH
BEGIN:VEVENT
UID:6611ae2c-cced-4891-a881-4169d5491919
DTSTAMP:20260421T222300Z
DTSTART:20260609T080000Z
DTEND:20260609T170000Z
SUMMARY:Dietetics
DESCRIPTION:This event is provided by Ying Freda Chung at MIDIN CLINIC. Please confirm precise times with the service provider.
LOCATION:\, 31-33 Robert Street\, Atherton\, QLD\, 4883\, QLD\, 4883
END:VEVENT
END:VCALENDAR
