BEGIN:VCALENDAR
VERSION:2.0
PRODID:-//My Community Diary//iCal Event//EN
CALSCALE:GREGORIAN
METHOD:PUBLISH
BEGIN:VEVENT
UID:f132cb8d-59a1-4d41-a71e-06ee6349d999
DTSTAMP:20260424T160638Z
DTSTART;TZID=E. Australia Standard Time:20191001T113000
DTEND;TZID=E. Australia Standard Time:20191001T123000
SUMMARY:Mid-week prayer and communion service
DESCRIPTION:Join our community each Tuesday morning for a mid-week prayer and communion service.&nbsp\; The service will be followed by lunch in the courtyard (gold coin donation).&nbsp\; All are welcome.\n
LOCATION:Merthyr Road Uniting Church\, 52 Merthyr Rd\, New Farm QLD 4005\, QLD\, 4005
RRULE:FREQ=WEEKLY;INTERVAL=1;BYDAY=TU
END:VEVENT
END:VCALENDAR
