BEGIN:VCALENDAR
VERSION:2.0
PRODID:-//My Community Diary//iCal Event//EN
CALSCALE:GREGORIAN
METHOD:PUBLISH
BEGIN:VEVENT
UID:6c9e5822-f5a6-4cdf-86c6-d60adac25b80
DTSTAMP:20260421T222209Z
DTSTART:20260507T080000Z
DTEND:20260507T170000Z
SUMMARY:Dietetics
DESCRIPTION:This event is provided by Health Management (Cairns) at Mamu Health Service - Ravenshoe. Please confirm precise times with the service provider. (www.healthmanagement.com.au)\nHealth Management (Cairns) has experience in the following: Regular Torres and cape trips with Cairns Taipans\, ongoing indigenous patients and ongoing training
LOCATION:\, 41 Grigg Street\, Ravenshoe\, QLD\, 4888\, QLD\, 4888
END:VEVENT
END:VCALENDAR
