BEGIN:VCALENDAR
VERSION:2.0
PRODID:-//My Community Diary//iCal Event//EN
CALSCALE:GREGORIAN
METHOD:PUBLISH
BEGIN:VEVENT
UID:ed2831ce-0465-4b80-8168-4adf0e556f41
DTSTAMP:20260421T222236Z
DTSTART:20260526T080000Z
DTEND:20260526T170000Z
SUMMARY:Dietetics
DESCRIPTION:This event is provided by Ying Freda Chung at MIDIN CLINIC. Please confirm precise times with the service provider.
LOCATION:\, 31-33 Robert Street\, Atherton\, QLD\, 4883\, QLD\, 4883
END:VEVENT
END:VCALENDAR
