BEGIN:VCALENDAR
VERSION:2.0
PRODID:-//My Community Diary//iCal Event//EN
CALSCALE:GREGORIAN
METHOD:PUBLISH
BEGIN:VEVENT
UID:a80ebd8c-19d7-4cf4-beb7-4ad0172789d7
DTSTAMP:20260422T000643Z
DTSTART;TZID=AUS Eastern Standard Time:20250903T100000
DTEND;TZID=AUS Eastern Standard Time:20250903T113000
SUMMARY:Rewind 
DESCRIPTION:A monthly non-denominational church service for people living with dementia and their carers is launching on Wednesday 3rd September at 10 am at The Heights Church\, 110a Galston Rd Hornsby Heights 2077. Light refreshments will follow the service.\n&nbsp\;\n\nThe service is free but donations will be gratefully received.\n&nbsp\;\n\nFor more information contact Leanne at leanne@rewindservice.org &nbsp\;or &nbsp\;phone 0412 867 697&nbsp\;\n
LOCATION:Rewind\, 110A Galston Road\, Hornsby Heights NSW 2077\, NSW\, 2077
RRULE:FREQ=MONTHLY;INTERVAL=1;BYDAY=3MO
END:VEVENT
END:VCALENDAR
