BEGIN:VCALENDAR
VERSION:2.0
PRODID:-//My Community Diary//iCal Event//EN
CALSCALE:GREGORIAN
METHOD:PUBLISH
BEGIN:VEVENT
UID:dd3d9d01-6eac-42c5-a5b1-0795fe0fec4d
DTSTAMP:20260422T050234Z
DTSTART;VALUE=DATE:20260523
DTEND;VALUE=DATE:20260524
SUMMARY:Guy Sebastian 100 Times Around The Sun Tour
DESCRIPTION:TEG Live proudly presents ARIA Award-winning singer-songwriter Guy Sebatian's 2026 National Tour in celebration of his brand-new album\, 100 Times Around The Sun. \n\nFollowing the chart-topping success of his 2020 Platinum-certified album T.R.U.T.H. and a sold-out national tour that cemented his reputation as one of Australia's most beloved live performers. Guy returns to stages across the country for an epic run of all ages shows from April to May 2026. Fans can expect a banging set filled with Guy's biggest hits\, think Battle Scars\, Before I Go and Choir alongside new tracks from 100 Times Around The Sun\, a soul-filled\, heartfelt record brimming with optimism\, perspective and signature Sebastian power vocals.
LOCATION:\, Olympic Blvd\, Melbourne\, VIC 3004\, VIC\, 3004
RRULE:FREQ=DAILY;INTERVAL=1;UNTIL=20260525T000000Z
END:VEVENT
END:VCALENDAR
