BEGIN:VCALENDAR
VERSION:2.0
PRODID:-//My Community Diary//iCal Event//EN
CALSCALE:GREGORIAN
METHOD:PUBLISH
BEGIN:VEVENT
UID:b3e5b205-5bd0-4661-a8be-20ea450e6ed9
DTSTAMP:20260421T222536Z
DTSTART;VALUE=DATE:20260611
DTEND;VALUE=DATE:20260612
SUMMARY:Flow Motion
DESCRIPTION:Every Thursday night join the Kindred House Band. Playing Jazz\, House\, Funk & Hip Hop with rotating band members each week.\n\nBring your instrument to have a play and join the jam band for over two hours of high-energy\, improvised groove music.\n\nAlways free.
LOCATION:\, 3 Harris St\, Footscray\, VIC 3011\, VIC\, 3011
RRULE:FREQ=DAILY;INTERVAL=1;UNTIL=20260613T000000Z
END:VEVENT
END:VCALENDAR
