BEGIN:VCALENDAR
VERSION:2.0
PRODID:-//My Community Diary//iCal Event//EN
CALSCALE:GREGORIAN
METHOD:PUBLISH
BEGIN:VEVENT
UID:c431dbd9-3a79-4dfa-9382-49e3e2e25bf1
DTSTAMP:20260421T222547Z
DTSTART;VALUE=DATE:20260521
DTEND;VALUE=DATE:20260522
SUMMARY:Flow Motion
DESCRIPTION:Every Thursday night join the Kindred House Band. Playing Jazz\, House\, Funk & Hip Hop with rotating band members each week.\n\nBring your instrument to have a play and join the jam band for over two hours of high-energy\, improvised groove music.\n\nAlways free.
LOCATION:\, 3 Harris St\, Footscray\, VIC 3011\, VIC\, 3011
RRULE:FREQ=DAILY;INTERVAL=1;UNTIL=20260523T000000Z
END:VEVENT
END:VCALENDAR
