BEGIN:VCALENDAR
VERSION:2.0
PRODID:-//My Community Diary//iCal Event//EN
CALSCALE:GREGORIAN
METHOD:PUBLISH
BEGIN:VEVENT
UID:389653d4-4517-47b3-b097-7a14f8b40b76
DTSTAMP:20260422T013855Z
DTSTART;VALUE=DATE:20260507
DTEND;VALUE=DATE:20260508
SUMMARY:Flow Motion
DESCRIPTION:Every Thursday night join the Kindred House Band. Playing Jazz\, House\, Funk & Hip Hop with rotating band members each week.\n\nBring your instrument to have a play and join the jam band for over two hours of high-energy\, improvised groove music.\n\nAlways free.
LOCATION:\, 3 Harris St\, Footscray\, VIC 3011\, VIC\, 3011
RRULE:FREQ=DAILY;INTERVAL=1;UNTIL=20260509T000000Z
END:VEVENT
END:VCALENDAR
