BEGIN:VCALENDAR
VERSION:2.0
PRODID:-//My Community Diary//iCal Event//EN
CALSCALE:GREGORIAN
METHOD:PUBLISH
BEGIN:VEVENT
UID:6f5fe4f4-69a2-4544-bf5d-29027c17d4c5
DTSTAMP:20260422T032220Z
DTSTART;VALUE=DATE:20260822
DTEND;VALUE=DATE:20260823
SUMMARY:Spirit of Ukraine Concert
DESCRIPTION:Experience the Spirit of Ukraine Concert—an uplifting tribute to Ukrainian culture and the resilience of its people—showcasing the remarkable talent of SLAVA Ukrainian Cultural Centre and friends. \n\nEnjoy spirited performances by children's and adult dance troupes\, choirs\, soloists\, and musicians. Ukrainian delicacies and drinks will be on sale before the show and during intermission. \n\nProceeds will support an orphanage for children with disabilities in Ukraine and provide essential medical aid. Tickets are available online and at the door.\n\nEntry Cost\nAll tickets $5  - $20 adults\n$15 concession/student\n$10 Children 12-16 years old\n$5 children Under 12
LOCATION:\, 76 Woodville Road\, Woodville South\, SA 5011\, SA\, 5011
RRULE:FREQ=DAILY;INTERVAL=1;UNTIL=20260824T000000Z
END:VEVENT
END:VCALENDAR
