BEGIN:VCALENDAR
VERSION:2.0
PRODID:-//My Community Diary//iCal Event//EN
CALSCALE:GREGORIAN
METHOD:PUBLISH
BEGIN:VEVENT
UID:baacb8bd-a40d-457d-b021-620cfc1c1aea
DTSTAMP:20260424T160801Z
DTSTART:20240302T090000Z
DTEND:20240302T170000Z
SUMMARY:Goulburn Show
DESCRIPTION:Goulburn AP & H Society has something for everyone with the focus on fostering the promoting and exhibiting the sustainable development of Agricultural\, Pastoral\, Horticultural and Industry resources of the Goulburn and surrounding districts at the annual show.\n\nGoulburn Show will be held at the Goulburn Recreation Area Showground\, promoting a low-cost family fun weekend.\n\nSchedules are available now for most of the pavilion sections and entry's open on the 1st of January.\n\nFor further information please visit the website.
LOCATION:\, 47 Braidwood Road\, Goulburn\, NSW 2580\, NSW\, 2580
RRULE:FREQ=DAILY;INTERVAL=1;UNTIL=20240304T000000Z
END:VEVENT
END:VCALENDAR
