BEGIN:VCALENDAR
VERSION:2.0
PRODID:-//My Community Diary//iCal Event//EN
CALSCALE:GREGORIAN
METHOD:PUBLISH
BEGIN:VEVENT
UID:925b615b-88c0-4591-8b9d-930b46c85b69
DTSTAMP:20260422T021029Z
DTSTART;VALUE=DATE:20260627
DTEND;VALUE=DATE:20260628
SUMMARY:Scenic Rim's Winter Harvest Festival
DESCRIPTION:Winter Harvest Festival is a fabulous\, relaxed day out for families and food lovers alike.  \n\nAs the signature event of Eat Local Month\, this authentic food festival proudly showcases the best of the Scenic Rim's culinary offerings. It's an invitation to literally eat and drink your way around the region\, connect with local producers and watch cooking demonstrations led by world-renowned chefs all in one flavour-filled day!\n\nSo prepare to delight your palate with an endless selection of tasting plates\, discover new wines\, and stock up on fresh produce while immersing yourself in the excitement of the Tractor Pulling Competition\, where teams compete against a 10-tonne tractor. Which team will clock the fastest time and win the prize?\n\nPack your empty eskies\, round up the kids\, and gather your friends for the ultimate family-friendly farm gate event and an absolute overload of country hospitality!\n\nVisit website for more information.\n\nEntry Cost\nAll tickets $0  - Children under 12 are free.
LOCATION:\, George Street\, Kalbar\, QLD 4309\, QLD\, 4309
END:VEVENT
END:VCALENDAR
