BEGIN:VCALENDAR
VERSION:2.0
PRODID:-//My Community Diary//iCal Event//EN
CALSCALE:GREGORIAN
METHOD:PUBLISH
BEGIN:VEVENT
UID:1b2ce0e9-3b30-4606-9cb9-3fa3dc7686f3
DTSTAMP:20260422T002943Z
DTSTART;VALUE=DATE:20260730
DTEND;VALUE=DATE:20260731
SUMMARY:EVA Air Sunshine Coast Marathon Festival
DESCRIPTION:The EVA Air Sunshine Coast Marathon and Community Run Festival is a member of the Association of International Marathons and Road Races (AIMS) and is one of the most-loved running festivals in Australia. Since its inception\, the Sunshine Coast Marathon has raised over AUD$2.5 million for charity and community groups.\n\nLocated on the stunning Sunshine Coast\, Queensland the event has been timed to make the most of the ideal Queensland winter running conditions. Blue skies\, low humidity and mild temperatures combined with a flat course always enable fast times.\n\nEvent distances include the Marathon\, Half Marathon\, 10 kilometre\, five kilometre and the two kilometre. Each road race follows the stunning coastline of Alexandra Headland with white sandy beaches and spectacular vantage points alongside the ocean. \n\nWith a distance to suit every ability and age group\, this community-focused\, world-class athletic event caters to all those wanting to take part\, including families and those with both physical and intellectual disabilities.\n\nThe two kilometre event allows parents with prams and wheelchair entrants to take part and enjoy the festival atmosphere. Race start times are scheduled to allow for parents to run the longer distances and then return in time to run with the kids and enjoy all the free fun in the family entertainment precinct.
LOCATION:\, Alexandra Headland\, QLD 4572\, QLD\, 4572
RRULE:FREQ=DAILY;INTERVAL=1;UNTIL=20260801T000000Z
END:VEVENT
END:VCALENDAR
