BEGIN:VCALENDAR
VERSION:2.0
PRODID:-//My Community Diary//iCal Event//EN
CALSCALE:GREGORIAN
METHOD:PUBLISH
BEGIN:VEVENT
UID:cf50cc68-3456-4337-9706-62abc138ba0c
DTSTAMP:20260422T000847Z
DTSTART;VALUE=DATE:20260426
DTEND;VALUE=DATE:20260427
SUMMARY:Craft Your Signature Bottle - Spirit Blending Class
DESCRIPTION:Embark on a fun journey into the world of spirit blending with their immersive class. Be a spirit blender for a day and craft your own drink\, choosing from Gin\, Vodka\, Rum\, Brandy\, or Schnapps!\n\nEnjoy a tasty welcome drink as your guide leads you through the process\, sharing insights into the rich history of spirits and the craft behind their award-winning range at Tamborine Mountain Distillery.\n\nExplore over 100 flavours allowing you to craft a blend that's truly yours. Add a personal touch by giving it a name and hand-labelling your bespoke 200ml bottle—a symbol of your unique creation.\n\nUnleash your creativity\, take home your crafted spirit\, and enjoy the satisfaction of making your own blend!\n\nWhat’s Included:\nComplimentary beverage upon your arrival\nProfessional blending advice provided by an expert guide\nDrinks provided during the class.\nExclusive access to a selection of botanicals from the apothecary\nA 200ml bottle of your personally blended spirit\n10 percent discount on any purchase made from their shop on the same day\nAll equipment is provided.\n\nEntry Cost\nAdult $75 
LOCATION:\, 10 Macdonnell Road\, Tamborine Mountain\, QLD 4272\, QLD\, 4272
RRULE:FREQ=DAILY;INTERVAL=1;UNTIL=20260428T000000Z
END:VEVENT
END:VCALENDAR
