BEGIN:VCALENDAR
VERSION:2.0
PRODID:-//My Community Diary//iCal Event//EN
CALSCALE:GREGORIAN
METHOD:PUBLISH
BEGIN:VEVENT
UID:6bec4288-3fba-4742-ae20-543be25cd192
DTSTAMP:20260421T222521Z
DTSTART;VALUE=DATE:20260516
DTEND;VALUE=DATE:20260517
SUMMARY:Craft Your Own – Cocktail Masterclass
DESCRIPTION:Master the Art of Mixology at Tamborine Mountain Distillery\n\nJoin in for a special experience at Tamborine Mountain Distillery\, where you'll learn\, taste\, and make cocktails. The expert mixologist will guide you and show you how to use their spirits and liqueurs to craft amazing drinks.\n\nGuided by a skilled mixologist\, the Cocktail Masterclass includes:\n\nExpert guidance from a experienced mixologist.\nAccess to a curated range of the finest premium spirits and liqueurs.\nThe opportunity to craft two unique cocktails.\nEnjoying your handcrafted cocktails with a grazing board to share.\nAn exclusive 10% discount on same-day liquor purchases.\nAll necessary equipment provided for the session.\n\nKnow Before You Go:\nThis experience is for individuals aged 18 and above.\nPlease arrive 10 minutes before your scheduled class time to check in.\n\nEntry Cost\nAdult $85 
LOCATION:\, 10 Macdonnell Road\, Tamborine Mountain\, QLD 4272\, QLD\, 4272
RRULE:FREQ=DAILY;INTERVAL=1;UNTIL=20260518T000000Z
END:VEVENT
END:VCALENDAR
