BEGIN:VCALENDAR
VERSION:2.0
PRODID:-//My Community Diary//iCal Event//EN
CALSCALE:GREGORIAN
METHOD:PUBLISH
BEGIN:VEVENT
UID:b8220ff0-4577-43f6-974b-daccd0125add
DTSTAMP:20260422T021822Z
DTSTART;VALUE=DATE:20260522
DTEND;VALUE=DATE:20260523
SUMMARY:Seventh Wonder performs Fleetwood Mac
DESCRIPTION:With an "electrifying" and "captivating" performance\, Seventh Wonder delivers an authentic portrayal of one of the most iconic bands in rock history.\nImmerse yourself in the timeless melodies of Fleetwood Mac's legendary album\, "Rumours\," brought to life in its entirety by Seventh Wonder. From the spirited rhythms of "Go Your Own Way" to the ethereal allure of "Dreams\," and the infectious energy of "Don't Stop\," every note resonates with the spirit of Fleetwood Mac. Additionally\, Seventh Wonder will take you on a journey through other cherished hits like "Little Lies\," "Gypsy\," and "Say You Love Me\," ensuring an unforgettable musical experience.\n\nFleetwood Mac\, the British-American rock phenomenon formed in 1967\, has left an indelible mark on the music world\, boasting sales of over 100 million records globally. Their magnum opus\, "Rumours\," released in 1977\, stands as one of the highest-selling albums of all time\, with over 45 million copies sold to date. Its emotional depth and timeless appeal have cemented its place in music history\, captivating audiences across generations.\nSeventh Wonder's dedication to preserving Fleetwood Mac's legacy through their mesmerizing performances has garnered acclaim from critics and fans alike. Led by the extraordinary vocal talent of Bloom\, whose voice has been described as "a force of nature\," Seventh Wonder brings the essence of Fleetwood Mac's sound to life with unparalleled precision and passion.\n\nEntry Cost\nAll tickets $69.9  - Adult: $69.90\n\n*$1.65 per ticket booking fee applies\n\n To book wheelchair accessible seating please call the box office on 02 4823 4999.
LOCATION:\, 163 Auburn Street\, Goulburn\, NSW 2580\, NSW\, 2580
END:VEVENT
END:VCALENDAR
