BEGIN:VCALENDAR
VERSION:2.0
PRODID:-//My Community Diary//iCal Event//EN
CALSCALE:GREGORIAN
METHOD:PUBLISH
BEGIN:VEVENT
UID:2ae4983c-db31-4e13-b3a5-1033de5fac47
DTSTAMP:20260421T224314Z
DTSTART;VALUE=DATE:20260802
DTEND;VALUE=DATE:20260803
SUMMARY:Run Echuca Moama
DESCRIPTION:Run Echuca Moama is a 21.1-kilometre\, 10-kilometre and 5-kilometre run\, walk or wheel (mobility aids only) event. The unique and beautiful course weaves its way across the old bridge and new bridge covering both states Victoria and New South Wales. \n\nThis event was previously known as Johnno’s Run. It is an annual fundraising event organised by Community Living and Respites Service (CLRS)\, dedicated to raising funds for the Opening Doors Project.\n\nThrough these projects\, they build homes for people with disability in the local community. To date\, these projects have built three homes and 12 units\, supporting 22 people with disability to live with greater independence and inclusion within their community.
LOCATION:\, Blair Street\, Moama\, NSW 2731\, NSW\, 2731
END:VEVENT
END:VCALENDAR
