BEGIN:VCALENDAR
VERSION:2.0
PRODID:-//My Community Diary//iCal Event//EN
CALSCALE:GREGORIAN
METHOD:PUBLISH
BEGIN:VEVENT
UID:65a48341-3ae5-4880-8199-ca074e981ca2
DTSTAMP:20260422T003023Z
DTSTART;VALUE=DATE:20261011
DTEND;VALUE=DATE:20261012
SUMMARY:Pambula Rotary Market
DESCRIPTION:Visit this sun-filled market on the broad sports grounds of Pambula every month. \n\nA huge variety of stalls include everything from hand-made preserves\, pickles\, olive oil\, cakes and sausage sizzles\, to jewellery\, all kinds of clothing\, bric-a-brac\, and more.
LOCATION:\, Toallo Street\, Pambula\, NSW 2549\, NSW\, 2549
RRULE:FREQ=DAILY;INTERVAL=1;UNTIL=20261013T000000Z
END:VEVENT
END:VCALENDAR
