BEGIN:VCALENDAR
VERSION:2.0
PRODID:-//My Community Diary//iCal Event//EN
CALSCALE:GREGORIAN
METHOD:PUBLISH
BEGIN:VEVENT
UID:d6f3356f-4e80-4c6f-b3f8-c350daaecd55
DTSTAMP:20260421T222455Z
DTSTART;VALUE=DATE:20260809
DTEND;VALUE=DATE:20260810
SUMMARY:Pambula Rotary Market
DESCRIPTION:Visit this sun-filled market on the broad sports grounds of Pambula every month. \n\nA huge variety of stalls include everything from hand-made preserves\, pickles\, olive oil\, cakes and sausage sizzles\, to jewellery\, all kinds of clothing\, bric-a-brac\, and more.
LOCATION:\, Toallo Street\, Pambula\, NSW 2549\, NSW\, 2549
RRULE:FREQ=DAILY;INTERVAL=1;UNTIL=20260811T000000Z
END:VEVENT
END:VCALENDAR
