BEGIN:VCALENDAR
VERSION:2.0
PRODID:-//My Community Diary//iCal Event//EN
CALSCALE:GREGORIAN
METHOD:PUBLISH
BEGIN:VEVENT
UID:65aff978-4591-4fcf-a675-6d36b7b074a1
DTSTAMP:20260424T101113Z
DTSTART:20260429T080000Z
DTEND:20260429T170000Z
SUMMARY:Occupational Therapy
DESCRIPTION:This event is provided by The Whole Child at Mount Garnet State School. Please confirm precise times with the service provider. (https://www.thewholechild.com.au)\nThe Whole Child has experience in the following: Have been involved with the local Aboriginal communities for past 20 years
LOCATION:\, Garnet Street\, Mount Garnet\, QLD\, 4872\, QLD\, 4872
END:VEVENT
END:VCALENDAR
