BEGIN:VCALENDAR
VERSION:2.0
PRODID:-//My Community Diary//iCal Event//EN
CALSCALE:GREGORIAN
METHOD:PUBLISH
BEGIN:VEVENT
UID:72f18d73-8c70-4fc1-ad1c-8600a269222e
DTSTAMP:20260422T013735Z
DTSTART:20260513T080000Z
DTEND:20260513T170000Z
SUMMARY:Occupational Therapy
DESCRIPTION:This event is provided by The Whole Child at Mamu Health Service - Ravenshoe. Please confirm precise times with the service provider. (https://www.thewholechild.com.au)\nThe Whole Child has experience in the following: Have been involved with the local Aboriginal communities for past 20 years
LOCATION:\, 41 Grigg Street\, Ravenshoe\, QLD\, 4888\, QLD\, 4888
END:VEVENT
END:VCALENDAR
