BEGIN:VCALENDAR
VERSION:2.0
PRODID:-//My Community Diary//iCal Event//EN
CALSCALE:GREGORIAN
METHOD:PUBLISH
BEGIN:VEVENT
UID:271a2a44-e6d0-45fe-a433-97ad0aded327
DTSTAMP:20260421T222256Z
DTSTART;VALUE=DATE:20260711
DTEND;VALUE=DATE:20260712
SUMMARY:The Melbourne Magic Festival
DESCRIPTION:The Melbourne Magic Festival is coming back for 2026 with shows all over Melbourne including it's amazing Central Business District Hub at Arrow on Swanston. \n\nThe Melbourne Magic Festival is now officially recognised as the largest festival of its kind in the southern hemisphere and attracts magicians and magic fans from all over the country and beyond.\n \nThe Melbourne Magic Festival has great shows especially designed to appeal to kids under ten years old. These shows are perfect school holiday entertainment. \n\nThere are a number of different shows perfect for the whole family to enjoy together. Some are daytime shows while others are perfect after dinner shows. \n\nMagic is no longer 'just for kids'\, with shows designed for adults to enjoy.\n\nEntry Cost\nAll tickets $0 
LOCATION:\, 488 Swanston Street\, Carlton\, VIC 3053\, VIC\, 3053
RRULE:FREQ=DAILY;INTERVAL=1;UNTIL=20260713T000000Z
END:VEVENT
END:VCALENDAR
